BEGIN:VCALENDAR
VERSION:2.0
PRODID:-//Global for events &amp; Conferences - ECPv6.15.13//NONSGML v1.0//EN
CALSCALE:GREGORIAN
METHOD:PUBLISH
X-WR-CALNAME:Global for events &amp; Conferences
X-ORIGINAL-URL:https://gecjo.com
X-WR-CALDESC:Events for Global for events &amp; Conferences
REFRESH-INTERVAL;VALUE=DURATION:PT1H
X-Robots-Tag:noindex
X-PUBLISHED-TTL:PT1H
BEGIN:VTIMEZONE
TZID:UTC
BEGIN:STANDARD
TZOFFSETFROM:+0000
TZOFFSETTO:+0000
TZNAME:UTC
DTSTART:20220101T000000
END:STANDARD
END:VTIMEZONE
BEGIN:VTIMEZONE
TZID:Europe/Moscow
BEGIN:STANDARD
TZOFFSETFROM:+0300
TZOFFSETTO:+0300
TZNAME:MSK
DTSTART:20230101T000000
END:STANDARD
END:VTIMEZONE
BEGIN:VEVENT
DTSTART;VALUE=DATE:20230524
DTEND;VALUE=DATE:20230527
DTSTAMP:20260422T045819
CREATED:20230319T214747Z
LAST-MODIFIED:20241222T145509Z
UID:2287-1684886400-1685145599@gecjo.com
SUMMARY:First Jordanian Conference On Mental Health
DESCRIPTION:This conference will bring together all the professionals in the field of mental health from Jordan and the region to present papers\, panel discussions\, workshops\, and all kinds of scientific interactions. \nBooklet FINAL FOR PRINT 13:5
URL:https://gecjo.com/index.php/event/first-jordanian-conference-on-mental-health/
LOCATION:Intercontinental Amman\, Islamic College Street\, Amman 11180\, Jordan\, Amman\, Amman\, 11180\, Jordan
CATEGORIES:education,exhibition,Medical,Psychiatry,psychology
ATTACH;FMTTYPE=image/jpeg:https://gecjo.com/wp-content/uploads/2023/03/WhatsApp-Image-2023-05-02-at-9.45.42-PM.jpeg
ORGANIZER;CN="GEC":MAILTO:info@gecjo.com
END:VEVENT
BEGIN:VEVENT
DTSTART;TZID=Europe/Moscow:20241119T080000
DTEND;TZID=Europe/Moscow:20241120T170000
DTSTAMP:20260422T045819
CREATED:20241222T145112Z
LAST-MODIFIED:20241222T150135Z
UID:8737-1732003200-1732122000@gecjo.com
SUMMARY:APHMAC 2024 (The 1st Amman International Pharmaceutical & Medical Marketing Conference)
DESCRIPTION:Overview \nWelcome to the inaugural The 1st Amman International Pharmaceutical & Medical Marketing Conference\, the first of its kind dedicated to exploring pioneering strategies for success within the medical and pharmaceutical sectors. This groundbreaking conference aims to bring together leaders\, professionals\, and experts to share insights\, discuss challenges\, and chart the course for the future of marketing in these vital industries.
URL:https://gecjo.com/index.php/event/aphmac-2024-the-1st-amman-international-pharmaceutical-medical-marketing-conference/
LOCATION:Le Royal Hotel Amman\, Zahran St\, dawar 3\, Amman 11118\, Jordan\, Amman\, Amman\, 11118\, Jordan
CATEGORIES:education,exhibition,Health,pharma
END:VEVENT
END:VCALENDAR